BEGIN:VCALENDAR
VERSION:2.0
PRODID:-//Amelia Island Management - ECPv6.15.17.1//NONSGML v1.0//EN
CALSCALE:GREGORIAN
METHOD:PUBLISH
X-WR-CALNAME:Amelia Island Management
X-ORIGINAL-URL:https://aim-amelia.com
X-WR-CALDESC:Events for Amelia Island Management
REFRESH-INTERVAL;VALUE=DURATION:PT1H
X-Robots-Tag:noindex
X-PUBLISHED-TTL:PT1H
BEGIN:VTIMEZONE
TZID:America/New_York
BEGIN:DAYLIGHT
TZOFFSETFROM:-0500
TZOFFSETTO:-0400
TZNAME:EDT
DTSTART:20250309T070000
END:DAYLIGHT
BEGIN:STANDARD
TZOFFSETFROM:-0400
TZOFFSETTO:-0500
TZNAME:EST
DTSTART:20251102T060000
END:STANDARD
BEGIN:DAYLIGHT
TZOFFSETFROM:-0500
TZOFFSETTO:-0400
TZNAME:EDT
DTSTART:20260308T070000
END:DAYLIGHT
BEGIN:STANDARD
TZOFFSETFROM:-0400
TZOFFSETTO:-0500
TZNAME:EST
DTSTART:20261101T060000
END:STANDARD
BEGIN:DAYLIGHT
TZOFFSETFROM:-0500
TZOFFSETTO:-0400
TZNAME:EDT
DTSTART:20270314T070000
END:DAYLIGHT
BEGIN:STANDARD
TZOFFSETFROM:-0400
TZOFFSETTO:-0500
TZNAME:EST
DTSTART:20271107T060000
END:STANDARD
END:VTIMEZONE
BEGIN:VEVENT
DTSTART;TZID=America/New_York:20260423T133000
DTEND;TZID=America/New_York:20260423T170000
DTSTAMP:20260423T074453
CREATED:20260421T194917Z
LAST-MODIFIED:20260421T194917Z
UID:13241-1776951000-1776963600@aim-amelia.com
SUMMARY:PAULA - LEAVING AT 1:30
DESCRIPTION:
URL:https://aim-amelia.com/event/paula-leaving-at-130/
END:VEVENT
BEGIN:VEVENT
DTSTART;TZID=America/New_York:20260423T153000
DTEND;TZID=America/New_York:20260423T170000
DTSTAMP:20260423T074453
CREATED:20251030T181313Z
LAST-MODIFIED:20251030T181313Z
UID:12331-1776958200-1776963600@aim-amelia.com
SUMMARY:BPP BOD Mtg - MP\, LN\, NL - AIM CR via Zoom
DESCRIPTION:
URL:https://aim-amelia.com/event/bpp-bod-mtg-mp-ln-nl-aim-cr-via-zoom-22/
END:VEVENT
BEGIN:VEVENT
DTSTART;TZID=America/New_York:20260424T100000
DTEND;TZID=America/New_York:20260424T113000
DTSTAMP:20260423T074453
CREATED:20251029T123958Z
LAST-MODIFIED:20251029T145945Z
UID:12312-1777024800-1777030200@aim-amelia.com
SUMMARY:LKSD A BOD MTG - MS\, NG\, NL
DESCRIPTION:
URL:https://aim-amelia.com/event/lksd-a-bod-mtg-ms-ng-nl-2/
END:VEVENT
BEGIN:VEVENT
DTSTART;VALUE=DATE:20260427
DTEND;VALUE=DATE:20260502
DTSTAMP:20260423T074453
CREATED:20260421T195056Z
LAST-MODIFIED:20260421T195056Z
UID:13243-1777248000-1777679999@aim-amelia.com
SUMMARY:MICHAEL S - PTO
DESCRIPTION:
URL:https://aim-amelia.com/event/michael-s-pto-11/
END:VEVENT
BEGIN:VEVENT
DTSTART;TZID=America/New_York:20260427T090000
DTEND;TZID=America/New_York:20260427T110000
DTSTAMP:20260423T074453
CREATED:20260119T160554Z
LAST-MODIFIED:20260119T160554Z
UID:12810-1777280400-1777287600@aim-amelia.com
SUMMARY:OCVS BOD MTG - AH\, JK\, NL
DESCRIPTION:
URL:https://aim-amelia.com/event/ocvs-bod-mtg-ah-jk-nl-3/
END:VEVENT
BEGIN:VEVENT
DTSTART;TZID=America/New_York:20260427T133000
DTEND;TZID=America/New_York:20260427T153000
DTSTAMP:20260423T074453
CREATED:20260330T201825Z
LAST-MODIFIED:20260330T201825Z
UID:13161-1777296600-1777303800@aim-amelia.com
SUMMARY:E@SBPHASE II BOD MTG - AT\, KM\, NL
DESCRIPTION:
URL:https://aim-amelia.com/event/esbphase-ii-bod-mtg-at-km-nl/
END:VEVENT
BEGIN:VEVENT
DTSTART;VALUE=DATE:20260429
DTEND;VALUE=DATE:20260430
DTSTAMP:20260423T074453
CREATED:20260415T212217Z
LAST-MODIFIED:20260415T212217Z
UID:13221-1777420800-1777507199@aim-amelia.com
SUMMARY:MICHELE - MOD
DESCRIPTION:
URL:https://aim-amelia.com/event/michele-mod/
END:VEVENT
BEGIN:VEVENT
DTSTART;VALUE=DATE:20260430
DTEND;VALUE=DATE:20260501
DTSTAMP:20260423T074453
CREATED:20260409T194431Z
LAST-MODIFIED:20260409T194431Z
UID:13201-1777507200-1777593599@aim-amelia.com
SUMMARY:PAULA - OFF
DESCRIPTION:
URL:https://aim-amelia.com/event/paula-off-15/
END:VEVENT
BEGIN:VEVENT
DTSTART;TZID=America/New_York:20260430T100000
DTEND;TZID=America/New_York:20260430T120000
DTSTAMP:20260423T074453
CREATED:20260325T155040Z
LAST-MODIFIED:20260422T132655Z
UID:13154-1777543200-1777550400@aim-amelia.com
SUMMARY:OCV INSURANCE MTG
DESCRIPTION:
URL:https://aim-amelia.com/event/ocv-insurance-mtg-ah-jk-nl-cr-via-zoom/
END:VEVENT
BEGIN:VEVENT
DTSTART;TZID=America/New_York:20260504T100000
DTEND;TZID=America/New_York:20260504T113000
DTSTAMP:20260423T074453
CREATED:20251126T143746Z
LAST-MODIFIED:20251126T143746Z
UID:12512-1777888800-1777894200@aim-amelia.com
SUMMARY:BS BOD MTG - AE\, NG\, NL
DESCRIPTION:
URL:https://aim-amelia.com/event/bs-bod-mtg-ae-ng-nl-3/
END:VEVENT
BEGIN:VEVENT
DTSTART;TZID=America/New_York:20260504T180000
DTEND;TZID=America/New_York:20260504T193000
DTSTAMP:20260423T074453
CREATED:20260408T165447Z
LAST-MODIFIED:20260408T165447Z
UID:13196-1777917600-1777923000@aim-amelia.com
SUMMARY:BRE BOD MTG - MP\, NL
DESCRIPTION:
URL:https://aim-amelia.com/event/bre-bod-mtg-mp-nl/
END:VEVENT
BEGIN:VEVENT
DTSTART;TZID=America/New_York:20260506T090000
DTEND;TZID=America/New_York:20260506T110000
DTSTAMP:20260423T074453
CREATED:20260324T142450Z
LAST-MODIFIED:20260326T191047Z
UID:13140-1778058000-1778065200@aim-amelia.com
SUMMARY:DCCA BOD Mtg - MA\, NG\, NL - AIM CR via Zoom
DESCRIPTION:
URL:https://aim-amelia.com/event/dcca-bod-mtg-ma-ng-nl-aim-cr-via-zoom-hold/
END:VEVENT
BEGIN:VEVENT
DTSTART;TZID=America/New_York:20260506T130000
DTEND;TZID=America/New_York:20260506T150000
DTSTAMP:20260423T074453
CREATED:20251203T201513Z
LAST-MODIFIED:20251203T201513Z
UID:12584-1778072400-1778079600@aim-amelia.com
SUMMARY:BPP ARC Mtg - MP\, LN\, NL - AIM CR via Zoom
DESCRIPTION:
URL:https://aim-amelia.com/event/bpp-arc-mtg-mp-ln-nl-aim-cr-via-zoom-7/
END:VEVENT
BEGIN:VEVENT
DTSTART;TZID=America/New_York:20260507T100000
DTEND;TZID=America/New_York:20260507T120000
DTSTAMP:20260423T074453
CREATED:20260416T154844Z
LAST-MODIFIED:20260416T154844Z
UID:13226-1778148000-1778155200@aim-amelia.com
SUMMARY:AL BOD Mtg - MP\, LN\, NL - AIM CR via Zoom
DESCRIPTION:
URL:https://aim-amelia.com/event/al-bod-mtg-mp-ln-nl-aim-cr-via-zoom/
END:VEVENT
BEGIN:VEVENT
DTSTART;TZID=America/New_York:20260507T133000
DTEND;TZID=America/New_York:20260507T150000
DTSTAMP:20260423T074453
CREATED:20260422T220613Z
LAST-MODIFIED:20260422T220613Z
UID:13246-1778160600-1778166000@aim-amelia.com
SUMMARY:SD BOD MTG - WF\, NG\, NL
DESCRIPTION:
URL:https://aim-amelia.com/event/sd-bod-mtg-wf-ng-nl-5/
END:VEVENT
BEGIN:VEVENT
DTSTART;TZID=America/New_York:20260508T090000
DTEND;TZID=America/New_York:20260508T113000
DTSTAMP:20260423T074453
CREATED:20251031T161556Z
LAST-MODIFIED:20251031T161556Z
UID:12358-1778230800-1778239800@aim-amelia.com
SUMMARY:BWK BOD Mtg - MN\, JK\, NL - AIM CR via Zoom
DESCRIPTION:
URL:https://aim-amelia.com/event/bwk-bod-mtg-mn-jk-nl-aim-cr-via-zoom-9/
END:VEVENT
BEGIN:VEVENT
DTSTART;TZID=America/New_York:20260508T133000
DTEND;TZID=America/New_York:20260508T153000
DTSTAMP:20260423T074453
CREATED:20251210T162152Z
LAST-MODIFIED:20251210T162152Z
UID:12693-1778247000-1778254200@aim-amelia.com
SUMMARY:CD BOD Mtg - AH\, JK\, NL - AIM CR via Zoom
DESCRIPTION:
URL:https://aim-amelia.com/event/cd-bod-mtg-ah-jk-nl-aim-cr-via-zoom-6/
END:VEVENT
BEGIN:VEVENT
DTSTART;VALUE=DATE:20260511
DTEND;VALUE=DATE:20260516
DTSTAMP:20260423T074453
CREATED:20260421T122631Z
LAST-MODIFIED:20260421T122631Z
UID:13236-1778457600-1778889599@aim-amelia.com
SUMMARY:MICHELLE - PTO
DESCRIPTION:
URL:https://aim-amelia.com/event/michelle-pto-8/
END:VEVENT
BEGIN:VEVENT
DTSTART;TZID=America/New_York:20260512T090000
DTEND;TZID=America/New_York:20260512T110000
DTSTAMP:20260423T074453
CREATED:20260119T201859Z
LAST-MODIFIED:20260119T201859Z
UID:12820-1778576400-1778583600@aim-amelia.com
SUMMARY:OST
DESCRIPTION:
URL:https://aim-amelia.com/event/ost-4/
END:VEVENT
BEGIN:VEVENT
DTSTART;TZID=America/New_York:20260512T133000
DTEND;TZID=America/New_York:20260512T153000
DTSTAMP:20260423T074453
CREATED:20251208T163857Z
LAST-MODIFIED:20251208T163857Z
UID:12645-1778592600-1778599800@aim-amelia.com
SUMMARY:HV ARC Mtg - NL - AIM CR via Zoom
DESCRIPTION:
URL:https://aim-amelia.com/event/hv-arc-mtg-nl-aim-cr-via-zoom-12/
END:VEVENT
BEGIN:VEVENT
DTSTART;TZID=America/New_York:20260513T140000
DTEND;TZID=America/New_York:20260513T160000
DTSTAMP:20260423T074453
CREATED:20250515T132538Z
LAST-MODIFIED:20260311T123056Z
UID:11668-1778680800-1778688000@aim-amelia.com
SUMMARY:SAISSA ANN/BOT Mtg - NL\, JK - County Bldg.
DESCRIPTION:
URL:https://aim-amelia.com/event/saissa-ann-bot-mtg-nl-jk-via-zoom/
END:VEVENT
BEGIN:VEVENT
DTSTART;VALUE=DATE:20260514
DTEND;VALUE=DATE:20260515
DTSTAMP:20260423T074453
CREATED:20260416T192846Z
LAST-MODIFIED:20260416T192846Z
UID:13228-1778716800-1778803199@aim-amelia.com
SUMMARY:LATONYA - PTO
DESCRIPTION:
URL:https://aim-amelia.com/event/latonya-pto-12/
END:VEVENT
BEGIN:VEVENT
DTSTART;VALUE=DATE:20260514
DTEND;VALUE=DATE:20260516
DTSTAMP:20260423T074453
CREATED:20260407T120722Z
LAST-MODIFIED:20260407T120722Z
UID:13184-1778716800-1778889599@aim-amelia.com
SUMMARY:LIZZIE - PTO
DESCRIPTION:
URL:https://aim-amelia.com/event/lizzie-pto-4/
END:VEVENT
BEGIN:VEVENT
DTSTART;TZID=America/New_York:20260514T133000
DTEND;TZID=America/New_York:20260514T153000
DTSTAMP:20260423T074453
CREATED:20260420T142242Z
LAST-MODIFIED:20260420T142242Z
UID:13234-1778765400-1778772600@aim-amelia.com
SUMMARY:E@SB TOWN HALL - AE\, KM\, NL
DESCRIPTION:
URL:https://aim-amelia.com/event/esb-town-hall-ae-km-nl/
END:VEVENT
BEGIN:VEVENT
DTSTART;VALUE=DATE:20260515
DTEND;VALUE=DATE:20260516
DTSTAMP:20260423T074453
CREATED:20260225T165453Z
LAST-MODIFIED:20260303T163400Z
UID:13032-1778803200-1778889599@aim-amelia.com
SUMMARY:LEAH - PTO
DESCRIPTION:
URL:https://aim-amelia.com/event/leah-pto-5/
END:VEVENT
BEGIN:VEVENT
DTSTART;TZID=America/New_York:20260520T140000
DTEND;TZID=America/New_York:20260520T163000
DTSTAMP:20260423T074453
CREATED:20250902T165757Z
LAST-MODIFIED:20250902T165757Z
UID:12094-1779285600-1779294600@aim-amelia.com
SUMMARY:LAR BOD Mtg - MA\, LN\, NL - AIM CR via Zoom
DESCRIPTION:
URL:https://aim-amelia.com/event/lar-bod-mtg-ma-ln-nl-aim-cr-via-zoom-5/
END:VEVENT
BEGIN:VEVENT
DTSTART;TZID=America/New_York:20260521T090000
DTEND;TZID=America/New_York:20260521T110000
DTSTAMP:20260423T074453
CREATED:20260319T155637Z
LAST-MODIFIED:20260319T155637Z
UID:13131-1779354000-1779361200@aim-amelia.com
SUMMARY:BWD BOD MTG - WF\, NG\, NL
DESCRIPTION:
URL:https://aim-amelia.com/event/bwd-bod-mtg-wf-ng-nl-9/
END:VEVENT
BEGIN:VEVENT
DTSTART;TZID=America/New_York:20260521T183000
DTEND;TZID=America/New_York:20260521T200000
DTSTAMP:20260423T074453
CREATED:20250527T112454Z
LAST-MODIFIED:20250527T112454Z
UID:11720-1779388200-1779393600@aim-amelia.com
SUMMARY:OBPOA ANNUAL MTG - MP\, KM\, NL
DESCRIPTION:
URL:https://aim-amelia.com/event/obpoa-annual-mtg-mp-km-nl/
END:VEVENT
BEGIN:VEVENT
DTSTART;VALUE=DATE:20260522
DTEND;VALUE=DATE:20260523
DTSTAMP:20260423T074453
CREATED:20260421T123110Z
LAST-MODIFIED:20260421T123206Z
UID:13238-1779408000-1779494399@aim-amelia.com
SUMMARY:OFFICE CLOSED AT 12
DESCRIPTION:
URL:https://aim-amelia.com/event/office-closing-at-noon-7/
END:VEVENT
BEGIN:VEVENT
DTSTART;VALUE=DATE:20260525
DTEND;VALUE=DATE:20260526
DTSTAMP:20260423T074453
CREATED:20260119T202626Z
LAST-MODIFIED:20260119T202626Z
UID:12840-1779667200-1779753599@aim-amelia.com
SUMMARY:OFFICE CLOSED
DESCRIPTION:
URL:https://aim-amelia.com/event/office-closed-11/
END:VEVENT
END:VCALENDAR